BEGIN:VCALENDAR
VERSION:2.0
PRODID:-//Taylors Three Rock - ECPv4.6.2//NONSGML v1.0//EN
CALSCALE:GREGORIAN
METHOD:PUBLISH
X-WR-CALNAME:Taylors Three Rock
X-ORIGINAL-URL:http://www.taylorsthreerock.ie
X-WR-CALDESC:Events for Taylors Three Rock
BEGIN:VEVENT
DTSTART;TZID=Europe/Dublin:20160305T100000
DTEND;TZID=Europe/Dublin:20160305T100000
DTSTAMP:20171101T004333
CREATED:20160109T173558Z
LAST-MODIFIED:20160301T125531Z
UID:96-1457172000-1457172000@www.taylorsthreerock.ie
SUMMARY:The Scene
DESCRIPTION:The Scene will be playing live in Taylors Saturday night from 10pm! \n
URL:http://www.taylorsthreerock.ie/event/the-scene/
LOCATION:Grange Road\, Rathfarnham\, Dublin 16\, Dublin\, D16 H2K6\, Ireland
CATEGORIES:Shindig
ATTACH;FMTTYPE=image/jpeg:http://www.taylorsthreerock.ie/wp-content/uploads/2016/01/the-scene.jpg
ORGANIZER;CN="Taylors%20Three%20Rock":MAILTO:info@taylorsthreerock.ie
END:VEVENT
END:VCALENDAR